OziExplorer Map Data File Version 2.2
stokmarknes
stokmarknes.jpg
1 ,Map Code,
WGS 84,WGS 84, 0.0000, 0.0000,WGS 84
Reserved 1
Reserved 2
Magnetic Variation,,,E
Map Projection,(UTM) Universal Transverse Mercator,PolyCal,No,AutoCalOnly,No,BSBUseWPX,No
Point01,xy, 48, 48,in,deg,,,N,,,E,grid,32,739000,7619000,N
Point02,xy, 848, 48,in,deg,,,N,,,E,grid,32,743000,7619000,N
Point03,xy, 48, 648,in,deg,,,N,,,E,grid,32,739000,7616000,N
Point04,xy, 848, 648,in,deg,,,N,,,E,grid,32,743000,7616000,N
Point05,xy0,0,in,deg,,,,,,,grid,,,,
Point06,xy0,0,in,deg,,,,,,,grid,,,,
Point07,xy0,0,in,deg,,,,,,,grid,,,,
Point08,xy0,0,in,deg,,,,,,,grid,,,,
Point09,xy0,0,in,deg,,,,,,,grid,,,,
Point10,xy0,0,in,deg,,,,,,,grid,,,,
Point11,xy0,0,in,deg,,,,,,,grid,,,,
Point12,xy0,0,in,deg,,,,,,,grid,,,,
Point13,xy0,0,in,deg,,,,,,,grid,,,,
Point14,xy0,0,in,deg,,,,,,,grid,,,,
Point15,xy0,0,in,deg,,,,,,,grid,,,,
Point16,xy0,0,in,deg,,,,,,,grid,,,,
Point17,xy0,0,in,deg,,,,,,,grid,,,,
Point18,xy0,0,in,deg,,,,,,,grid,,,,
Point19,xy0,0,in,deg,,,,,,,grid,,,,
Point20,xy0,0,in,deg,,,,,,,grid,,,,
Point21,xy0,0,in,deg,,,,,,,grid,,,,
Point22,xy0,0,in,deg,,,,,,,grid,,,,
Point23,xy0,0,in,deg,,,,,,,grid,,,,
Point24,xy0,0,in,deg,,,,,,,grid,,,,
Point25,xy0,0,in,deg,,,,,,,grid,,,,
Point26,xy0,0,in,deg,,,,,,,grid,,,,
Point27,xy0,0,in,deg,,,,,,,grid,,,,
Point28,xy0,0,in,deg,,,,,,,grid,,,,
Point29,xy0,0,in,deg,,,,,,,grid,,,,
Point30,xy0,0,in,deg,,,,,,,grid,,,,
Projection Setup,0,-120,0.9996,0,-4000000,34.0,40.5,,,
Map Feature = MF ; Map Comment = MC These follow if they exist
Track File = TF These follow if they exist
Moving Map Parameters = MM? These follow if they exist
MM0,Yes
MMPNUM,4
MMPXY,1,48,48
MMPXY,2,4048,48
MMPXY,3,4048,4048
MMPXY,4,48,4048
MMPLL,1, 14.898563, 68.588560
MMPLL,2, 15.386462, 68.570692
MMPLL,3, 15.336101, 68.392420
MMPLL,4, 14.851993, 68.410126
MM1B,5
MOP,Map Open Position,0,0
IWH,Map Image Width/Height,4096,4096
